BEGIN:VCALENDAR
VERSION:2.0
PRODID:-//Mozarteum Argentino - ECPv6.15.20//NONSGML v1.0//EN
CALSCALE:GREGORIAN
METHOD:PUBLISH
X-WR-CALNAME:Mozarteum Argentino
X-ORIGINAL-URL:https://www.mozarteumargentino.org
X-WR-CALDESC:Eventos para Mozarteum Argentino
REFRESH-INTERVAL;VALUE=DURATION:PT1H
X-Robots-Tag:noindex
X-PUBLISHED-TTL:PT1H
BEGIN:VTIMEZONE
TZID:America/Argentina/Buenos_Aires
BEGIN:STANDARD
TZOFFSETFROM:-0300
TZOFFSETTO:-0300
TZNAME:-03
DTSTART:20250101T000000
END:STANDARD
END:VTIMEZONE
BEGIN:VEVENT
DTSTART;TZID=America/Argentina/Buenos_Aires:20260504T200000
DTEND;TZID=America/Argentina/Buenos_Aires:20260504T220000
DTSTAMP:20260423T115334
CREATED:20260210T055257Z
LAST-MODIFIED:20260317T015155Z
UID:10000001-1777924800-1777932000@www.mozarteumargentino.org
SUMMARY:Prague Chamber Soloists
DESCRIPTION:Concierto en el teatro colón
URL:https://www.mozarteumargentino.org/temporada-2026/prague-chamber-soloists/
LOCATION:Teatro Colón
CATEGORIES:Teatro Colón
ATTACH;FMTTYPE=image/jpeg:https://www.mozarteumargentino.org/wp-content/uploads/2026/02/2026-1-Prague-Chamber-Soloists.jpg
END:VEVENT
BEGIN:VEVENT
DTSTART;TZID=America/Argentina/Buenos_Aires:20260601T200000
DTEND;TZID=America/Argentina/Buenos_Aires:20260601T220000
DTSTAMP:20260423T115334
CREATED:20260210T055446Z
LAST-MODIFIED:20260317T015200Z
UID:10000002-1780344000-1780351200@www.mozarteumargentino.org
SUMMARY:Orchestre des Champs-Elysées
DESCRIPTION:Concierto en el teatro colón
URL:https://www.mozarteumargentino.org/temporada-2026/orchestre-des-champs-elysees/
LOCATION:Teatro Colón
CATEGORIES:Teatro Colón
ATTACH;FMTTYPE=image/jpeg:https://www.mozarteumargentino.org/wp-content/uploads/2026/02/2026-2-Orchestre-des-Champs-Elysees.jpg
END:VEVENT
BEGIN:VEVENT
DTSTART;TZID=America/Argentina/Buenos_Aires:20260629T200000
DTEND;TZID=America/Argentina/Buenos_Aires:20260629T220000
DTSTAMP:20260423T115334
CREATED:20260210T055621Z
LAST-MODIFIED:20260330T185725Z
UID:10000003-1782763200-1782770400@www.mozarteumargentino.org
SUMMARY:Javier Perianes piano
DESCRIPTION:Concierto en el Teatro Colón
URL:https://www.mozarteumargentino.org/temporada-2026/javier-perianes-piano/
LOCATION:Teatro Colón
CATEGORIES:Teatro Colón
ATTACH;FMTTYPE=image/jpeg:https://www.mozarteumargentino.org/wp-content/uploads/2026/02/2026-3-javier-perianes.jpg
END:VEVENT
BEGIN:VEVENT
DTSTART;TZID=America/Argentina/Buenos_Aires:20260810T200000
DTEND;TZID=America/Argentina/Buenos_Aires:20260810T220000
DTSTAMP:20260423T115334
CREATED:20260220T005316Z
LAST-MODIFIED:20260330T185636Z
UID:10000009-1786392000-1786399200@www.mozarteumargentino.org
SUMMARY:Pacifica Quartet
DESCRIPTION:Concierto en el Teatro Colón
URL:https://www.mozarteumargentino.org/temporada-2026/pacifica-quartet/
LOCATION:Teatro Colón
CATEGORIES:Teatro Colón
ATTACH;FMTTYPE=image/jpeg:https://www.mozarteumargentino.org/wp-content/uploads/2026/02/2026-4-Pacifica-Quartet.jpg
END:VEVENT
BEGIN:VEVENT
DTSTART;TZID=America/Argentina/Buenos_Aires:20260824T200000
DTEND;TZID=America/Argentina/Buenos_Aires:20260824T220000
DTSTAMP:20260423T115334
CREATED:20260220T011942Z
LAST-MODIFIED:20260317T015214Z
UID:10000010-1787601600-1787608800@www.mozarteumargentino.org
SUMMARY:Jakub Józef Orliński contratenor
DESCRIPTION:Concierto en el teatro colón
URL:https://www.mozarteumargentino.org/temporada-2026/jakub-jozef-orlinski-il-pomo-doro/
LOCATION:Teatro Colón
CATEGORIES:Teatro Colón
ATTACH;FMTTYPE=image/jpeg:https://www.mozarteumargentino.org/wp-content/uploads/2026/02/2026-5-Jakub-Jozef-Orlinski.jpg
END:VEVENT
BEGIN:VEVENT
DTSTART;TZID=America/Argentina/Buenos_Aires:20260914T200000
DTEND;TZID=America/Argentina/Buenos_Aires:20260914T220000
DTSTAMP:20260423T115334
CREATED:20260220T012244Z
LAST-MODIFIED:20260330T185615Z
UID:10000011-1789416000-1789423200@www.mozarteumargentino.org
SUMMARY:András Schiff piano
DESCRIPTION:Concierto en el Teatro Colón
URL:https://www.mozarteumargentino.org/temporada-2026/andras-schiff-piano/
LOCATION:Teatro Colón
CATEGORIES:Teatro Colón
ATTACH;FMTTYPE=image/jpeg:https://www.mozarteumargentino.org/wp-content/uploads/2026/02/2026-6-Andras-Schiff.jpg
END:VEVENT
BEGIN:VEVENT
DTSTART;TZID=America/Argentina/Buenos_Aires:20261005T200000
DTEND;TZID=America/Argentina/Buenos_Aires:20261005T220000
DTSTAMP:20260423T115334
CREATED:20260220T014206Z
LAST-MODIFIED:20260317T015220Z
UID:10000012-1791230400-1791237600@www.mozarteumargentino.org
SUMMARY:Camerata Salzburg
DESCRIPTION:Concierto en el teatro colón
URL:https://www.mozarteumargentino.org/temporada-2026/camerata-salzburg-maria-duenas/
LOCATION:Teatro Colón
CATEGORIES:Teatro Colón
ATTACH;FMTTYPE=image/jpeg:https://www.mozarteumargentino.org/wp-content/uploads/2026/02/2026-7-Camerata-Salzburg-1.jpg
END:VEVENT
BEGIN:VEVENT
DTSTART;TZID=America/Argentina/Buenos_Aires:20261102T200000
DTEND;TZID=America/Argentina/Buenos_Aires:20261102T220000
DTSTAMP:20260423T115334
CREATED:20260220T020736Z
LAST-MODIFIED:20260317T015222Z
UID:10000013-1793649600-1793656800@www.mozarteumargentino.org
SUMMARY:Monteverdi Choir
DESCRIPTION:Concierto en el teatro colón
URL:https://www.mozarteumargentino.org/temporada-2026/monteverdi-choir/
LOCATION:Teatro Colón
CATEGORIES:Teatro Colón
ATTACH;FMTTYPE=image/jpeg:https://www.mozarteumargentino.org/wp-content/uploads/2026/02/2026-8-Monteverdi-Choir.jpg
END:VEVENT
END:VCALENDAR