BEGIN:VCALENDAR
VERSION:2.0
PRODID:-//Mozarteum Argentino - ECPv6.15.20//NONSGML v1.0//EN
CALSCALE:GREGORIAN
METHOD:PUBLISH
X-WR-CALNAME:Mozarteum Argentino
X-ORIGINAL-URL:https://www.mozarteumargentino.org
X-WR-CALDESC:Eventos para Mozarteum Argentino
REFRESH-INTERVAL;VALUE=DURATION:PT1H
X-Robots-Tag:noindex
X-PUBLISHED-TTL:PT1H
BEGIN:VTIMEZONE
TZID:America/Argentina/Buenos_Aires
BEGIN:STANDARD
TZOFFSETFROM:-0300
TZOFFSETTO:-0300
TZNAME:-03
DTSTART:20250101T000000
END:STANDARD
END:VTIMEZONE
BEGIN:VEVENT
DTSTART;TZID=America/Argentina/Buenos_Aires:20260810T200000
DTEND;TZID=America/Argentina/Buenos_Aires:20260810T220000
DTSTAMP:20260423T201254
CREATED:20260220T005316Z
LAST-MODIFIED:20260330T185636Z
UID:10000009-1786392000-1786399200@www.mozarteumargentino.org
SUMMARY:Pacifica Quartet
DESCRIPTION:Concierto en el Teatro Colón
URL:https://www.mozarteumargentino.org/temporada-2026/pacifica-quartet/
LOCATION:Teatro Colón
CATEGORIES:Teatro Colón
ATTACH;FMTTYPE=image/jpeg:https://www.mozarteumargentino.org/wp-content/uploads/2026/02/2026-4-Pacifica-Quartet.jpg
END:VEVENT
BEGIN:VEVENT
DTSTART;TZID=America/Argentina/Buenos_Aires:20260812T140000
DTEND;TZID=America/Argentina/Buenos_Aires:20260812T150000
DTSTAMP:20260423T201254
CREATED:20260303T023227Z
LAST-MODIFIED:20260408T144610Z
UID:10000015-1786543200-1786546800@www.mozarteumargentino.org
SUMMARY:Ensamble Terra Lucida
DESCRIPTION:concierto de mediodía
URL:https://www.mozarteumargentino.org/mediodia-2026/ensamble-terra-lucida/
LOCATION:Palacio Libertad
CATEGORIES:Conciertos del Mediodía
ATTACH;FMTTYPE=image/jpeg:https://www.mozarteumargentino.org/wp-content/uploads/2026/03/05-Ensamble-Terra-Lucida.jpg
END:VEVENT
BEGIN:VEVENT
DTSTART;TZID=America/Argentina/Buenos_Aires:20260824T200000
DTEND;TZID=America/Argentina/Buenos_Aires:20260824T220000
DTSTAMP:20260423T201254
CREATED:20260220T011942Z
LAST-MODIFIED:20260317T015214Z
UID:10000010-1787601600-1787608800@www.mozarteumargentino.org
SUMMARY:Jakub Józef Orliński contratenor
DESCRIPTION:Concierto en el teatro colón
URL:https://www.mozarteumargentino.org/temporada-2026/jakub-jozef-orlinski-il-pomo-doro/
LOCATION:Teatro Colón
CATEGORIES:Teatro Colón
ATTACH;FMTTYPE=image/jpeg:https://www.mozarteumargentino.org/wp-content/uploads/2026/02/2026-5-Jakub-Jozef-Orlinski.jpg
END:VEVENT
BEGIN:VEVENT
DTSTART;TZID=America/Argentina/Buenos_Aires:20260826T140000
DTEND;TZID=America/Argentina/Buenos_Aires:20260826T150000
DTSTAMP:20260423T201254
CREATED:20260303T024300Z
LAST-MODIFIED:20260408T144513Z
UID:10000016-1787752800-1787756400@www.mozarteumargentino.org
SUMMARY:Ariel Lanyi piano
DESCRIPTION:Concierto del Mediodía
URL:https://www.mozarteumargentino.org/mediodia-2026/ariel-lanyi-piano/
LOCATION:Palacio Libertad
CATEGORIES:Conciertos del Mediodía
ATTACH;FMTTYPE=image/jpeg:https://www.mozarteumargentino.org/wp-content/uploads/2026/03/06-Ariel-Lanyi.jpg
END:VEVENT
END:VCALENDAR