BEGIN:VCALENDAR
VERSION:2.0
PRODID:-//Mozarteum Argentino - ECPv6.15.20//NONSGML v1.0//EN
CALSCALE:GREGORIAN
METHOD:PUBLISH
X-ORIGINAL-URL:https://www.mozarteumargentino.org
X-WR-CALDESC:Eventos para Mozarteum Argentino
REFRESH-INTERVAL;VALUE=DURATION:PT1H
X-Robots-Tag:noindex
X-PUBLISHED-TTL:PT1H
BEGIN:VTIMEZONE
TZID:America/Argentina/Buenos_Aires
BEGIN:STANDARD
TZOFFSETFROM:-0300
TZOFFSETTO:-0300
TZNAME:-03
DTSTART:20250101T000000
END:STANDARD
END:VTIMEZONE
BEGIN:VEVENT
DTSTART;TZID=America/Argentina/Buenos_Aires:20260527T140000
DTEND;TZID=America/Argentina/Buenos_Aires:20260527T150000
DTSTAMP:20260423T202112
CREATED:20260212T062713Z
LAST-MODIFIED:20260408T144703Z
UID:10000006-1779890400-1779894000@www.mozarteumargentino.org
SUMMARY:Orquesta El Arranque
DESCRIPTION:Xavier Inchausti violín
URL:https://www.mozarteumargentino.org/mediodia-2026/orquesta-el-arranque/
LOCATION:Palacio Libertad
CATEGORIES:Conciertos del Mediodía
ATTACH;FMTTYPE=image/jpeg:https://www.mozarteumargentino.org/wp-content/uploads/2026/02/03-orquesta-El-Arranque.jpg
END:VEVENT
BEGIN:VEVENT
DTSTART;TZID=America/Argentina/Buenos_Aires:20260513T140000
DTEND;TZID=America/Argentina/Buenos_Aires:20260513T150000
DTSTAMP:20260423T202112
CREATED:20260212T062559Z
LAST-MODIFIED:20260408T144731Z
UID:10000005-1778680800-1778684400@www.mozarteumargentino.org
SUMMARY:Jaquelina Livieri soprano
DESCRIPTION:concierto de mediodía
URL:https://www.mozarteumargentino.org/mediodia-2026/jaquelina-livieri-matias-chapiro/
LOCATION:Palacio Libertad
CATEGORIES:Conciertos del Mediodía
ATTACH;FMTTYPE=image/jpeg:https://www.mozarteumargentino.org/wp-content/uploads/2026/03/02-jaquelina-livieri-matias-chapiro.jpg
END:VEVENT
BEGIN:VEVENT
DTSTART;TZID=America/Argentina/Buenos_Aires:20260504T200000
DTEND;TZID=America/Argentina/Buenos_Aires:20260504T220000
DTSTAMP:20260423T202112
CREATED:20260210T055257Z
LAST-MODIFIED:20260317T015155Z
UID:10000001-1777924800-1777932000@www.mozarteumargentino.org
SUMMARY:Prague Chamber Soloists
DESCRIPTION:Concierto en el teatro colón
URL:https://www.mozarteumargentino.org/temporada-2026/prague-chamber-soloists/
LOCATION:Teatro Colón
CATEGORIES:Teatro Colón
ATTACH;FMTTYPE=image/jpeg:https://www.mozarteumargentino.org/wp-content/uploads/2026/02/2026-1-Prague-Chamber-Soloists.jpg
END:VEVENT
BEGIN:VEVENT
DTSTART;TZID=America/Argentina/Buenos_Aires:20260423T140000
DTEND;TZID=America/Argentina/Buenos_Aires:20260423T150000
DTSTAMP:20260423T202112
CREATED:20260212T062337Z
LAST-MODIFIED:20260408T144801Z
UID:10000004-1776952800-1776956400@www.mozarteumargentino.org
SUMMARY:Camerata Bariloche
DESCRIPTION:concierto de mediodía
URL:https://www.mozarteumargentino.org/mediodia-2026/camerata-bariloche/
LOCATION:Palacio Libertad
CATEGORIES:Conciertos del Mediodía
ATTACH;FMTTYPE=image/jpeg:https://www.mozarteumargentino.org/wp-content/uploads/2026/03/01-Camerata-Bariloche.jpg
END:VEVENT
BEGIN:VEVENT
DTSTART;TZID=America/Argentina/Buenos_Aires:20260318T100000
DTEND;TZID=America/Argentina/Buenos_Aires:20260320T170000
DTSTAMP:20260423T202112
CREATED:20260219T223058Z
LAST-MODIFIED:20260220T011515Z
UID:10000008-1773828000-1774026000@www.mozarteumargentino.org
SUMMARY:Inscripción Nuevos Socios
DESCRIPTION:18 al 20 de marzo – Lunes a viernes de 10 a 13 y de 14 a 17
URL:https://www.mozarteumargentino.org/temporada-2026/inscripcion-nuevos-socios/
LOCATION:Teatro Colón
CATEGORIES:Abonos (Inscripción y Renovación)
ATTACH;FMTTYPE=image/jpeg:https://www.mozarteumargentino.org/wp-content/uploads/2026/02/mozarteum-evento-compra-abonos.jpg
END:VEVENT
BEGIN:VEVENT
DTSTART;TZID=America/Argentina/Buenos_Aires:20260302T100000
DTEND;TZID=America/Argentina/Buenos_Aires:20260313T170000
DTSTAMP:20260423T202112
CREATED:20260219T220935Z
LAST-MODIFIED:20260220T010728Z
UID:10000007-1772445600-1773421200@www.mozarteumargentino.org
SUMMARY:Renovación de Abonos
DESCRIPTION:2 al 13 de marzo – Lunes a viernes de 10 a 13 y de 14 a 17
URL:https://www.mozarteumargentino.org/temporada-2026/renovacion-de-abonos/
LOCATION:Rodriguez Peña 1882 PB “A”
CATEGORIES:Abonos (Inscripción y Renovación)
ATTACH;FMTTYPE=image/jpeg:https://www.mozarteumargentino.org/wp-content/uploads/2026/02/mozarteum-evento-renovacion.jpg
END:VEVENT
END:VCALENDAR