BEGIN:VCALENDAR
VERSION:2.0
PRODID:-//Mozarteum Argentino - ECPv6.15.20//NONSGML v1.0//EN
CALSCALE:GREGORIAN
METHOD:PUBLISH
X-WR-CALNAME:Mozarteum Argentino
X-ORIGINAL-URL:https://www.mozarteumargentino.org
X-WR-CALDESC:Eventos para Mozarteum Argentino
REFRESH-INTERVAL;VALUE=DURATION:PT1H
X-Robots-Tag:noindex
X-PUBLISHED-TTL:PT1H
BEGIN:VTIMEZONE
TZID:America/Argentina/Buenos_Aires
BEGIN:STANDARD
TZOFFSETFROM:-0300
TZOFFSETTO:-0300
TZNAME:-03
DTSTART:20250101T000000
END:STANDARD
END:VTIMEZONE
BEGIN:VEVENT
DTSTART;TZID=America/Argentina/Buenos_Aires:20260423T140000
DTEND;TZID=America/Argentina/Buenos_Aires:20260423T150000
DTSTAMP:20260423T150227
CREATED:20260212T062337Z
LAST-MODIFIED:20260408T144801Z
UID:10000004-1776952800-1776956400@www.mozarteumargentino.org
SUMMARY:Camerata Bariloche
DESCRIPTION:concierto de mediodía
URL:https://www.mozarteumargentino.org/mediodia-2026/camerata-bariloche/
LOCATION:Palacio Libertad
CATEGORIES:Conciertos del Mediodía
ATTACH;FMTTYPE=image/jpeg:https://www.mozarteumargentino.org/wp-content/uploads/2026/03/01-Camerata-Bariloche.jpg
END:VEVENT
END:VCALENDAR